BEGIN:VCALENDAR
VERSION:2.0
PRODID:-//192.0.78.194//NONSGML kigkonsult.se iCalcreator 2.26.9//
CALSCALE:GREGORIAN
METHOD:PUBLISH
X-WR-CALNAME:Sport Climbing Victoria
X-WR-CALDESC:
X-FROM-URL:https://sportclimbingvictoria.com.au
X-WR-TIMEZONE:Australia/Melbourne
BEGIN:VTIMEZONE
TZID:Australia/Melbourne
X-LIC-LOCATION:Australia/Melbourne
BEGIN:STANDARD
DTSTART:20200405T030000
TZOFFSETFROM:+1100
TZOFFSETTO:+1000
RDATE:20210404T030000
TZNAME:AEST
END:STANDARD
BEGIN:DAYLIGHT
DTSTART:20191006T020000
TZOFFSETFROM:+1000
TZOFFSETTO:+1100
RDATE:20201004T020000
TZNAME:AEDT
END:DAYLIGHT
END:VTIMEZONE
BEGIN:VEVENT
UID:6eqlaoanr5a9dnvmq5jhd0riht_R20180427T063000@google.com
DTSTAMP:20200227T075512Z
CATEGORIES;LANGUAGE=en-US:Victorian Events
CONTACT:
DESCRIPTION:Children are the future! This session focus is about refining t
 echnique and strength in order to become an expert Boulder. Children must 
 be capable of climbing unassisted by a guardian. Upon the first entry the 
 child and guardian must fill out a customer liability waiver form. It can 
 be downloaded from our website – under ‘Admission’ section at the bottom o
 f the page. 
DTSTART;TZID=Australia/Melbourne:20180427T163000
DTEND;TZID=Australia/Melbourne:20180427T190000
LOCATION:Northcote Northside Boulders\, 109-113 Helen St\, Northcote VIC 30
 70\, Australia
RRULE:FREQ=WEEKLY;BYDAY=FR
SEQUENCE:0
SUMMARY:Northside Youth Squad – Intermediate
URL:https://sportclimbingvictoria.com.au/event/northside-youth-squad-interm
 ediate/
X-COST-TYPE:free
X-ALT-DESC;FMTTYPE=text/html:<!DOCTYPE HTML PUBLIC '-//W3C//DTD HTML 3.2//E
 N'>\\n<HTML>\\n<HEAD>\\n<TITLE></TITLE>\\n</HEAD>\\n<BODY><p><span style='
 \, Helvetica\, Arial\, sans-serif'>Children are the future! This session f
 ocus is about refining technique and strength in order to become an expert
  Boulder. Children must be capable of climbing unassisted by a guardian. U
 pon the first entry the child and guardian must fill out a customer liabil
 ity waiver form. It can be downloaded from our website – under ‘Admission’
  section at the bottom of the page. </span></p>\n</BODY></HTML>
END:VEVENT
END:VCALENDAR
