BEGIN:VCALENDAR
VERSION:2.0
PRODID:-//192.0.78.182//NONSGML kigkonsult.se iCalcreator 2.26.9//
CALSCALE:GREGORIAN
METHOD:PUBLISH
X-WR-CALNAME:Sport Climbing Victoria
X-WR-CALDESC:
X-FROM-URL:https://sportclimbingvictoria.com.au
X-WR-TIMEZONE:Australia/Melbourne
BEGIN:VTIMEZONE
TZID:Australia/Melbourne
X-LIC-LOCATION:Australia/Melbourne
BEGIN:STANDARD
DTSTART:20200405T030000
TZOFFSETFROM:+1100
TZOFFSETTO:+1000
RDATE:20210404T030000
TZNAME:AEST
END:STANDARD
BEGIN:DAYLIGHT
DTSTART:20191006T020000
TZOFFSETFROM:+1000
TZOFFSETTO:+1100
RDATE:20201004T020000
TZNAME:AEDT
END:DAYLIGHT
END:VTIMEZONE
BEGIN:VEVENT
UID:6pnnjgaq56ngh5fic3m0j0041p@google.com
DTSTAMP:20200227T075616Z
CATEGORIES;LANGUAGE=en-US:Victorian Events
CONTACT:
DESCRIPTION:<p><span>WARM UP YOGA | EVERY TUESDAY</span><br /><span>__</spa
 n><br /><span>From April 3rd Northside will offer 30 minute warm up yoga s
 essions every Tuesday at Northcote! Warm up\, open up\, stabilise and get 
 in the zone before getting on the wall.  </span><br /><span>__</span><br /
 ><span>Available sessions :</span><span><br />5 to 5.30 pm<br />5.45 to 6.
 15pm<br />6.30 to 7pm<br />7.15 to 7.45pm<br />__<br />• NO BOOKINGS<br />
 • FREE for Northside members<br />• $5 for non Northside members </span></
 p>
DTSTART;TZID=Australia/Melbourne:20180403T170000
DTEND;TZID=Australia/Melbourne:20180403T194500
LOCATION:Northcote Northside Boulders\, 109-113 Helen St\, Northcote VIC 30
 70\, Australia
RRULE:FREQ=WEEKLY;BYDAY=TU
SEQUENCE:2629
SUMMARY:Warm Up Yoga
URL:https://sportclimbingvictoria.com.au/event/warm-up-yoga/
X-COST-TYPE:free
END:VEVENT
END:VCALENDAR
